BEGIN:VCALENDAR
VERSION:2.0
PRODID:-//soldalum.com - ECPv6.6.4.2//NONSGML v1.0//EN
CALSCALE:GREGORIAN
METHOD:PUBLISH
X-ORIGINAL-URL:https://soldalum.com
X-WR-CALDESC:Eventos para soldalum.com
REFRESH-INTERVAL;VALUE=DURATION:PT1H
X-Robots-Tag:noindex
X-PUBLISHED-TTL:PT1H
BEGIN:VTIMEZONE
TZID:America/Argentina/Buenos_Aires
BEGIN:STANDARD
TZOFFSETFROM:-0300
TZOFFSETTO:-0300
TZNAME:-03
DTSTART:20240101T000000
END:STANDARD
END:VTIMEZONE
BEGIN:VEVENT
DTSTART;VALUE=DATE:20240928
DTEND;VALUE=DATE:20240929
DTSTAMP:20260414T135718
CREATED:20240919T150212Z
LAST-MODIFIED:20240919T192411Z
UID:1165-1727481600-1727567999@soldalum.com
SUMMARY:Curso de Soldadura (La Pampa\, Argentina)
DESCRIPTION:
URL:https://soldalum.com/eventos/curso-soldadura/
LOCATION:Lugar:\, Irigoyen 910\, Catriló\, La Pampa\, Argentina
ATTACH;FMTTYPE=image/png:https://soldalum.com/wp-content/uploads/2024/09/jg.png
END:VEVENT
END:VCALENDAR